BEGIN:VCALENDAR
VERSION:2.0
PRODID:-//Madrid with Kids - ECPv6.15.20//NONSGML v1.0//EN
CALSCALE:GREGORIAN
METHOD:PUBLISH
X-WR-CALNAME:Madrid with Kids
X-ORIGINAL-URL:https://madridwithkids.com
X-WR-CALDESC:Events for Madrid with Kids
REFRESH-INTERVAL;VALUE=DURATION:PT1H
X-Robots-Tag:noindex
X-PUBLISHED-TTL:PT1H
BEGIN:VTIMEZONE
TZID:Europe/Madrid
BEGIN:DAYLIGHT
TZOFFSETFROM:+0100
TZOFFSETTO:+0200
TZNAME:CEST
DTSTART:20250330T010000
END:DAYLIGHT
BEGIN:STANDARD
TZOFFSETFROM:+0200
TZOFFSETTO:+0100
TZNAME:CET
DTSTART:20251026T010000
END:STANDARD
BEGIN:DAYLIGHT
TZOFFSETFROM:+0100
TZOFFSETTO:+0200
TZNAME:CEST
DTSTART:20260329T010000
END:DAYLIGHT
BEGIN:STANDARD
TZOFFSETFROM:+0200
TZOFFSETTO:+0100
TZNAME:CET
DTSTART:20261025T010000
END:STANDARD
BEGIN:DAYLIGHT
TZOFFSETFROM:+0100
TZOFFSETTO:+0200
TZNAME:CEST
DTSTART:20270328T010000
END:DAYLIGHT
BEGIN:STANDARD
TZOFFSETFROM:+0200
TZOFFSETTO:+0100
TZNAME:CET
DTSTART:20271031T010000
END:STANDARD
END:VTIMEZONE
BEGIN:VEVENT
DTSTART;TZID=Europe/Madrid:20260419T110000
DTEND;TZID=Europe/Madrid:20260419T123000
DTSTAMP:20260419T180518
CREATED:20260407T215851Z
LAST-MODIFIED:20260418T105212Z
UID:10000667-1776596400-1776601800@madridwithkids.com
SUMMARY:Peter Rabbit
DESCRIPTION:The mischievous rabbit Peter has been sneaking into the garden of the old\, grumpy Mr. McGregor for years to steal food from the garden. When the old man dies\, Peter\, his family\, and friends think all their troubles are over… until Mr. McGregor’s grandnephew and heir shows up. An educational activity in the garden will follow the screening.
URL:https://madridwithkids.com/event/peter-rabbit/
LOCATION:Real Jardín Botánico\, Pl. Murillo\, 2\, Madrid\, 28014\, Spain
CATEGORIES:Movie,Workshop
ATTACH;FMTTYPE=image/png:https://madridwithkids.com/wp-content/uploads/2026/04/Diseno-sin-titulo-8.png
END:VEVENT
BEGIN:VEVENT
DTSTART;TZID=Europe/Madrid:20260418T113000
DTEND;TZID=Europe/Madrid:20260418T121500
DTSTAMP:20260419T180518
CREATED:20260407T150703Z
LAST-MODIFIED:20260418T101655Z
UID:10000643-1776511800-1776514500@madridwithkids.com
SUMMARY:Volando
DESCRIPTION:Has it ever been so windy that you were afraid you might be blown away? This is the starting point for *Volando*\, the wonderful story written by Ana Marques Parrilla\, a writer born in Monforte but based in A Coruña\, who has spent many years dealing with the stubborn wind in A Coruña. From those constant gusts\, a story was born\, and what begins as a little girl clinging to a tree out of fear of the wind ends up becoming a wild adventure alongside a group of animals… with a surprise ending. \nIn addition to this wonderful storytelling session\, we’ll wrap up the activity with a mini illustration workshop inspired by Natascha Rosenberg’s beautiful illustrations.
URL:https://madridwithkids.com/event/volando/
CATEGORIES:Storytelling,Workshop
ATTACH;FMTTYPE=image/png:https://madridwithkids.com/wp-content/uploads/2026/04/Diseno-sin-titulo-3.png
END:VEVENT
BEGIN:VEVENT
DTSTART;TZID=Europe/Madrid:20260411T121500
DTEND;TZID=Europe/Madrid:20260411T170000
DTSTAMP:20260419T180518
CREATED:20260308T230032Z
LAST-MODIFIED:20260405T123726Z
UID:10000530-1775909700-1775926800@madridwithkids.com
SUMMARY:Canciones de Cuna y Nido
DESCRIPTION:Sessions for babies with adults or pregnant women in a comfortable space\, with lots of cushions and soft lighting\, where you can learn and share lullabies.
URL:https://madridwithkids.com/event/canciones-de-cuna-y-nido/2026-04-11/2/
LOCATION:Espacio Abierto Quinta de los Molinos\, C. de Juan Ignacio Luca de Tena\, 20\, Madrid\, 28027\, Spain
CATEGORIES:Workshop
ATTACH;FMTTYPE=image/png:https://madridwithkids.com/wp-content/uploads/2026/03/Untitled-design-2026-03-08T235917.626.png
END:VEVENT
BEGIN:VEVENT
DTSTART;TZID=Europe/Madrid:20260411T103000
DTEND;TZID=Europe/Madrid:20260411T113000
DTSTAMP:20260419T180518
CREATED:20260308T230032Z
LAST-MODIFIED:20260405T123726Z
UID:10000529-1775903400-1775907000@madridwithkids.com
SUMMARY:Canciones de Cuna y Nido
DESCRIPTION:Sessions for babies with adults or pregnant women in a comfortable space\, with lots of cushions and soft lighting\, where you can learn and share lullabies.
URL:https://madridwithkids.com/event/canciones-de-cuna-y-nido/2026-04-11/1/
LOCATION:Espacio Abierto Quinta de los Molinos\, C. de Juan Ignacio Luca de Tena\, 20\, Madrid\, 28027\, Spain
CATEGORIES:Workshop
ATTACH;FMTTYPE=image/png:https://madridwithkids.com/wp-content/uploads/2026/03/Untitled-design-2026-03-08T235917.626.png
END:VEVENT
BEGIN:VEVENT
DTSTART;TZID=Europe/Madrid:20260314T121500
DTEND;TZID=Europe/Madrid:20260314T131500
DTSTAMP:20260419T180518
CREATED:20260308T230032Z
LAST-MODIFIED:20260405T123726Z
UID:10000528-1773490500-1773494100@madridwithkids.com
SUMMARY:Canciones de Cuna y Nido
DESCRIPTION:Sessions for babies with adults or pregnant women in a comfortable space\, with lots of cushions and soft lighting\, where you can learn and share lullabies.
URL:https://madridwithkids.com/event/canciones-de-cuna-y-nido/2026-03-14/2/
LOCATION:Espacio Abierto Quinta de los Molinos\, C. de Juan Ignacio Luca de Tena\, 20\, Madrid\, 28027\, Spain
CATEGORIES:Workshop
ATTACH;FMTTYPE=image/png:https://madridwithkids.com/wp-content/uploads/2026/03/Untitled-design-2026-03-08T235917.626.png
END:VEVENT
BEGIN:VEVENT
DTSTART;TZID=Europe/Madrid:20260314T103000
DTEND;TZID=Europe/Madrid:20260314T131500
DTSTAMP:20260419T180518
CREATED:20260308T230032Z
LAST-MODIFIED:20260405T123726Z
UID:10000527-1773484200-1773494100@madridwithkids.com
SUMMARY:Canciones de Cuna y Nido
DESCRIPTION:Sessions for babies with adults or pregnant women in a comfortable space\, with lots of cushions and soft lighting\, where you can learn and share lullabies.
URL:https://madridwithkids.com/event/canciones-de-cuna-y-nido/2026-03-14/1/
LOCATION:Espacio Abierto Quinta de los Molinos\, C. de Juan Ignacio Luca de Tena\, 20\, Madrid\, 28027\, Spain
CATEGORIES:Workshop
ATTACH;FMTTYPE=image/png:https://madridwithkids.com/wp-content/uploads/2026/03/Untitled-design-2026-03-08T235917.626.png
END:VEVENT
BEGIN:VEVENT
DTSTART;TZID=Europe/Madrid:20260308T080000
DTEND;TZID=Europe/Madrid:20260308T170000
DTSTAMP:20260419T180518
CREATED:20260308T230032Z
LAST-MODIFIED:20260405T123726Z
UID:10000526-1772956800-1772989200@madridwithkids.com
SUMMARY:Canciones de Cuna y Nido
DESCRIPTION:Sessions for babies with adults or pregnant women in a comfortable space\, with lots of cushions and soft lighting\, where you can learn and share lullabies.
URL:https://madridwithkids.com/event/canciones-de-cuna-y-nido/2026-03-08/
LOCATION:Espacio Abierto Quinta de los Molinos\, C. de Juan Ignacio Luca de Tena\, 20\, Madrid\, 28027\, Spain
CATEGORIES:Workshop
ATTACH;FMTTYPE=image/png:https://madridwithkids.com/wp-content/uploads/2026/03/Untitled-design-2026-03-08T235917.626.png
END:VEVENT
END:VCALENDAR